BEGIN:VCALENDAR
VERSION:2.0
PRODID:-//Warrington East Scouts - ECPv6.15.15//NONSGML v1.0//EN
CALSCALE:GREGORIAN
METHOD:PUBLISH
X-WR-CALNAME:Warrington East Scouts
X-ORIGINAL-URL:https://www.warringtoneastscouts.org.uk
X-WR-CALDESC:Events for Warrington East Scouts
REFRESH-INTERVAL;VALUE=DURATION:PT1H
X-Robots-Tag:noindex
X-PUBLISHED-TTL:PT1H
BEGIN:VTIMEZONE
TZID:Europe/London
BEGIN:DAYLIGHT
TZOFFSETFROM:+0000
TZOFFSETTO:+0100
TZNAME:BST
DTSTART:20240331T010000
END:DAYLIGHT
BEGIN:STANDARD
TZOFFSETFROM:+0100
TZOFFSETTO:+0000
TZNAME:GMT
DTSTART:20241027T010000
END:STANDARD
BEGIN:DAYLIGHT
TZOFFSETFROM:+0000
TZOFFSETTO:+0100
TZNAME:BST
DTSTART:20250330T010000
END:DAYLIGHT
BEGIN:STANDARD
TZOFFSETFROM:+0100
TZOFFSETTO:+0000
TZNAME:GMT
DTSTART:20251026T010000
END:STANDARD
BEGIN:DAYLIGHT
TZOFFSETFROM:+0000
TZOFFSETTO:+0100
TZNAME:BST
DTSTART:20260329T010000
END:DAYLIGHT
BEGIN:STANDARD
TZOFFSETFROM:+0100
TZOFFSETTO:+0000
TZNAME:GMT
DTSTART:20261025T010000
END:STANDARD
BEGIN:DAYLIGHT
TZOFFSETFROM:+0000
TZOFFSETTO:+0100
TZNAME:BST
DTSTART:20270328T010000
END:DAYLIGHT
BEGIN:STANDARD
TZOFFSETFROM:+0100
TZOFFSETTO:+0000
TZNAME:GMT
DTSTART:20271031T010000
END:STANDARD
END:VTIMEZONE
BEGIN:VEVENT
DTSTART;TZID=Europe/London:20260411T080000
DTEND;TZID=Europe/London:20260412T170000
DTSTAMP:20260422T112441
CREATED:20251209T160745Z
LAST-MODIFIED:20251229T135224Z
UID:5401-1775894400-1776013200@www.warringtoneastscouts.org.uk
SUMMARY:County Youth Forum
DESCRIPTION:See Cheshire County Website for Details
URL:https://www.warringtoneastscouts.org.uk/event/county-youth-forum/
CATEGORIES:Explorer Scouts,Forthcoming District Events,Young Leaders
END:VEVENT
BEGIN:VEVENT
DTSTART;TZID=Europe/London:20260222T000000
DTEND;TZID=Europe/London:20260222T235959
DTSTAMP:20260422T112441
CREATED:20251209T113941Z
LAST-MODIFIED:20251209T114259Z
UID:5370-1771718400-1771804799@www.warringtoneastscouts.org.uk
SUMMARY:Founder's Day
DESCRIPTION:A time to celebrate our Founder Lord Baden Powell
URL:https://www.warringtoneastscouts.org.uk/event/founders-day/
CATEGORIES:Adult Leaders,Beavers,Cubs,Explorer Scouts,Forthcoming District Events,Scouts,Squirrels,Young Leaders
END:VEVENT
BEGIN:VEVENT
DTSTART;TZID=Europe/London:20260208T133000
DTEND;TZID=Europe/London:20260208T160000
DTSTAMP:20260422T112441
CREATED:20251218T231359Z
LAST-MODIFIED:20251222T143750Z
UID:5449-1770557400-1770566400@www.warringtoneastscouts.org.uk
SUMMARY:Adult & Leader Taster Day – Rifle And Pistol Shooting
DESCRIPTION:This is a taster session for Leaders and interested adults in Scouting to experience a session with The Target Sports Team. At the session you will be able to try rifle and pistol shooting and have a chat with the team. Please book onto the session with the team leader at the email below\, so the team can manage numbers on the day.
URL:https://www.warringtoneastscouts.org.uk/event/adult-leader-taster-day-rifle-and-pistol-shooting-2/
LOCATION:3rd Warrington East (1st Culcheth) Scout Centre\, Jackson Avenue\, Culcheth\, Warrington\, WA3 4EJ\, United Kingdom
CATEGORIES:Adult Leaders,Forthcoming District Events,Young Leaders
ORGANIZER;CN="Target Sport Team Leader":MAILTO:jon.davies@warringtoneastscouts.org.uk
END:VEVENT
BEGIN:VEVENT
DTSTART;TZID=Europe/London:20250607T080000
DTEND;TZID=Europe/London:20250609T170000
DTSTAMP:20260422T112441
CREATED:20241029T115823Z
LAST-MODIFIED:20241029T141647Z
UID:4670-1749283200-1749488400@www.warringtoneastscouts.org.uk
SUMMARY:Big Help Out
DESCRIPTION:See National Website for details of a great opportunity for recruitment and community engagement.
URL:https://www.warringtoneastscouts.org.uk/event/big-help-out/
CATEGORIES:Adult Leaders,Beavers,Cubs,Explorer Scouts,Forthcoming District Events,Scouts,Squirrels,Young Leaders
END:VEVENT
BEGIN:VEVENT
DTSTART;TZID=Europe/London:20250426T080000
DTEND;TZID=Europe/London:20250426T170000
DTSTAMP:20260422T112441
CREATED:20241029T113717Z
LAST-MODIFIED:20241029T141827Z
UID:4620-1745654400-1745686800@www.warringtoneastscouts.org.uk
SUMMARY:St George’s Day Hike
DESCRIPTION:Times and Venues may vary from Section to Section\n\n\n\nSection specific hike/walk
URL:https://www.warringtoneastscouts.org.uk/event/st-georges-day-hike/
LOCATION:Location  and Time To Be Confirmed
CATEGORIES:Adult Leaders,Beavers,Cubs,Explorer Scouts,Forthcoming District Events,Scouts,Squirrels,Young Leaders
ORGANIZER;CN="Simon Gare District Lead Volunteer Programme":MAILTO:simon.gare@warringtoneastscouts.org.uk
END:VEVENT
END:VCALENDAR