BEGIN:VCALENDAR
VERSION:2.0
PRODID:-//Warrington East Scouts - ECPv6.15.15//NONSGML v1.0//EN
CALSCALE:GREGORIAN
METHOD:PUBLISH
X-ORIGINAL-URL:https://www.warringtoneastscouts.org.uk
X-WR-CALDESC:Events for Warrington East Scouts
REFRESH-INTERVAL;VALUE=DURATION:PT1H
X-Robots-Tag:noindex
X-PUBLISHED-TTL:PT1H
BEGIN:VTIMEZONE
TZID:Europe/London
BEGIN:DAYLIGHT
TZOFFSETFROM:+0000
TZOFFSETTO:+0100
TZNAME:BST
DTSTART:20250330T010000
END:DAYLIGHT
BEGIN:STANDARD
TZOFFSETFROM:+0100
TZOFFSETTO:+0000
TZNAME:GMT
DTSTART:20251026T010000
END:STANDARD
BEGIN:DAYLIGHT
TZOFFSETFROM:+0000
TZOFFSETTO:+0100
TZNAME:BST
DTSTART:20260329T010000
END:DAYLIGHT
BEGIN:STANDARD
TZOFFSETFROM:+0100
TZOFFSETTO:+0000
TZNAME:GMT
DTSTART:20261025T010000
END:STANDARD
BEGIN:DAYLIGHT
TZOFFSETFROM:+0000
TZOFFSETTO:+0100
TZNAME:BST
DTSTART:20270328T010000
END:DAYLIGHT
BEGIN:STANDARD
TZOFFSETFROM:+0100
TZOFFSETTO:+0000
TZNAME:GMT
DTSTART:20271031T010000
END:STANDARD
END:VTIMEZONE
BEGIN:VEVENT
DTSTART;TZID=Europe/London:20261003T080000
DTEND;TZID=Europe/London:20261004T170000
DTSTAMP:20260423T225633
CREATED:20251222T115418Z
LAST-MODIFIED:20251222T115418Z
UID:5459-1791014400-1791133200@www.warringtoneastscouts.org.uk
SUMMARY:Sleepover at Gulliver's Kingdom
DESCRIPTION:Cubs get access to the park for a themed walk in the evening and the park on the Sunday. Cubes sleep in the Nerf war zone . Food is provided   – Saturday 4:30pm  to 5:00pm Sunday (group decision)  Full Details in 2026
URL:https://www.warringtoneastscouts.org.uk/event/sleepover-at-gullivers-kingdom/
LOCATION:Gulliver’s World\, Shackleton Close\, Old Hall.\, Warrington\, WA5 9YZ
CATEGORIES:Adult Leaders,Cubs,Forthcoming District Events
ORGANIZER;CN="Becki Hughes District Lead Volunteer Programme - Cubs":MAILTO:becki.hughes@warringtoneastscouts.org.uk
END:VEVENT
BEGIN:VEVENT
DTSTART;TZID=Europe/London:20261011T080000
DTEND;TZID=Europe/London:20261018T170000
DTSTAMP:20260423T225633
CREATED:20251222T121954Z
LAST-MODIFIED:20251222T121954Z
UID:5500-1791705600-1792342800@www.warringtoneastscouts.org.uk
SUMMARY:JOTI/JOTA  (Provisional Dates)
DESCRIPTION:Jamboree on the internet/air    For more information see the website
URL:https://www.warringtoneastscouts.org.uk/event/joti-jota-provisional-dates/
CATEGORIES:Adult Leaders,Beavers,Cubs,Explorer Scouts,Forthcoming District Events,Scouts,Squirrels,Young Leaders
END:VEVENT
BEGIN:VEVENT
DTSTART;TZID=Europe/London:20261011T130000
DTEND;TZID=Europe/London:20261011T160000
DTSTAMP:20260423T225633
CREATED:20251211T130034Z
LAST-MODIFIED:20251220T205139Z
UID:5466-1791723600-1791734400@www.warringtoneastscouts.org.uk
SUMMARY:Celebrating Success
DESCRIPTION:Award ceremony for members achieving their top awards. Section leaders to register young people via the google form.
URL:https://www.warringtoneastscouts.org.uk/event/celebrating-success/
LOCATION:25th Warrington East (St Wilfrid’s) Scout HQ\, Rear of Parish Church\, Grappenhall\, Warrington\, WA4 3EP\, United Kingdom
CATEGORIES:Adult Leaders,Beavers,Cubs,Forthcoming District Events,Squirrels
ORGANIZER;CN="Emma Collen District Lead Volunteer Programme - Beavers":MAILTO:emma.collen@warringtoneastscouts.org.uk
END:VEVENT
END:VCALENDAR